BEGIN:VCALENDAR
VERSION:2.0
PRODID:-//YSC Senftenberger See//NONSGML v1.0//EN
BEGIN:VEVENT
UID:veranstaltungen/traditionsregatta@segelverein-ysc.de
DTSTART;TZID=Europe/Berlin:20260620T110000
DTEND;TZID=Europe/Berlin:20260620T130000
DTSTAMP:20260421T102926Z
SUMMARY:Traditionsregatta
DESCRIPTION:Der Yacht- und Surfclub lädt herzlich zur Traditionsregatta ein.
LOCATION:Clubgelände
URL;VALUE=URI:https://segelverein-ysc.de/veranstaltungen/traditionsregatta
END:VEVENT
END:VCALENDAR