BEGIN:VCALENDAR
VERSION:2.0
PRODID:-//YSC Senftenberger See//NONSGML v1.0//EN
BEGIN:VEVENT
UID:veranstaltungen/seepokal@segelverein-ysc.de
DTSTART;TZID=Europe/Berlin:20260718T110000
DTEND;TZID=Europe/Berlin:20260718T130000
DTSTAMP:20260421T121330Z
SUMMARY:Seepokal
DESCRIPTION:
LOCATION:Wird noch bekannt gegeben
URL;VALUE=URI:https://segelverein-ysc.de/veranstaltungen/seepokal
END:VEVENT
END:VCALENDAR