BEGIN:VCALENDAR
VERSION:2.0
PRODID:-//YSC Senftenberger See//NONSGML v1.0//EN
BEGIN:VEVENT
UID:veranstaltungen/neue-veranstaltung@segelverein-ysc.de
DTSTART;TZID=Europe/Berlin:20260426T100000
DTEND;TZID=Europe/Berlin:20260426T120000
DTSTAMP:20260421T121330Z
SUMMARY:Seminar Regelkunde - Für alle!
DESCRIPTION:Wir machen Euch wieder fit für die Saison und gehen nochmal die wichtigsten Regeln durch.
LOCATION:Clubraum
URL;VALUE=URI:https://segelverein-ysc.de/veranstaltungen/neue-veranstaltung
END:VEVENT
END:VCALENDAR