BEGIN:VCALENDAR
VERSION:2.0
PRODID:-//YSC Senftenberger See//NONSGML v1.0//EN
BEGIN:VEVENT
UID:veranstaltungen/mitgliederversammlung@segelverein-ysc.de
DTSTART;TZID=Europe/Berlin:20261003T150000
DTEND;TZID=Europe/Berlin:20261003T170000
DTSTAMP:20260421T103028Z
SUMMARY:Mitgliederversammlung
DESCRIPTION:
LOCATION:Clubraum
URL;VALUE=URI:https://segelverein-ysc.de/veranstaltungen/mitgliederversammlung
END:VEVENT
END:VCALENDAR