BEGIN:VCALENDAR
VERSION:2.0
PRODID:-//YSC Senftenberger See//NONSGML v1.0//EN
BEGIN:VEVENT
UID:veranstaltungen/langstrecke-nach-niemtsch@segelverein-ysc.de
DTSTART;TZID=Europe/Berlin:20260808T110000
DTEND;TZID=Europe/Berlin:20260808T130000
DTSTAMP:20260421T121330Z
SUMMARY:Langstrecke nach Niemtsch
DESCRIPTION:
LOCATION:Vereinsgelände
URL;VALUE=URI:https://segelverein-ysc.de/veranstaltungen/langstrecke-nach-niemtsch
END:VEVENT
END:VCALENDAR