BEGIN:VCALENDAR
VERSION:2.0
PRODID:-//YSC Senftenberger See//NONSGML v1.0//EN
BEGIN:VEVENT
UID:veranstaltungen/kinder-und-jugendtrainingslager@segelverein-ysc.de
DTSTART;TZID=Europe/Berlin:20260711T100000
DTEND;TZID=Europe/Berlin:20260418T110000
DTSTAMP:20260421T122514Z
SUMMARY:Kinder- und Jugendtrainingslager
DESCRIPTION:Kinder- und Jugendtrainingslager\, nähere Infos folgen.
LOCATION:Clubgelände
URL;VALUE=URI:https://segelverein-ysc.de/veranstaltungen/kinder-und-jugendtrainingslager
END:VEVENT
END:VCALENDAR