BEGIN:VCALENDAR
VERSION:2.0
PRODID:-//YSC Senftenberger See//NONSGML v1.0//EN
BEGIN:VEVENT
UID:veranstaltungen/jubilaumsregatta@segelverein-ysc.de
DTSTART;TZID=Europe/Berlin:20260704T110000
DTEND;TZID=Europe/Berlin:20260705T140000
DTSTAMP:20260421T122514Z
SUMMARY:Jubiläumsregatta
DESCRIPTION:Der Yacht-und Surfclub lädt herzlich zu seiner Jubiläumsregatta ein.
LOCATION:Clubgelände
URL;VALUE=URI:https://segelverein-ysc.de/veranstaltungen/jubilaumsregatta
END:VEVENT
END:VCALENDAR