BEGIN:VCALENDAR
VERSION:2.0
PRODID:-//YSC Senftenberger See//NONSGML v1.0//EN
BEGIN:VEVENT
UID:veranstaltungen/herbstregatta@segelverein-ysc.de
DTSTART;TZID=Europe/Berlin:20260905T110000
DTEND;TZID=Europe/Berlin:20260906T150000
DTSTAMP:20260421T102926Z
SUMMARY:Herbstregatta
DESCRIPTION:
LOCATION:Vereinsgelände
URL;VALUE=URI:https://segelverein-ysc.de/veranstaltungen/herbstregatta
END:VEVENT
END:VCALENDAR