BEGIN:VCALENDAR
VERSION:2.0
PRODID:-//YSC Senftenberger See//NONSGML v1.0//EN
BEGIN:VEVENT
UID:veranstaltungen/fruhjahrsregatta@segelverein-ysc.de
DTSTART;TZID=Europe/Berlin:20260516T100000
DTEND;TZID=Europe/Berlin:20260517T140000
DTSTAMP:20260421T103027Z
SUMMARY:Frühjahrsregatta
DESCRIPTION:Wir treffen uns zur ersten Regatta des Jahres.\nDer Anmeldelink zu manage4sail wird rechtzeitig hier bekanntgegeben.
LOCATION:Clubgelände
URL;VALUE=URI:https://segelverein-ysc.de/veranstaltungen/fruhjahrsregatta
END:VEVENT
END:VCALENDAR