BEGIN:VCALENDAR
VERSION:2.0
PRODID:-//YSC Senftenberger See//NONSGML v1.0//EN
BEGIN:VEVENT
UID:veranstaltungen/boote-einsetzen@segelverein-ysc.de
DTSTART;TZID=Europe/Berlin:20260411T100000
DTEND;TZID=Europe/Berlin:20260411T120000
DTSTAMP:20260421T121331Z
SUMMARY:Boote einsetzen
DESCRIPTION:Am 11. April 2026 werden die Boote wieder eingesetzt und ausgelagert. Wir freuen uns über eine rege Beteiligung. Bitte schaut auch immer mal\, ob beim Auslagern noch Hilfe benötigt wird.
LOCATION:Vereinsgelände
URL;VALUE=URI:https://segelverein-ysc.de/veranstaltungen/boote-einsetzen
END:VEVENT
END:VCALENDAR