BEGIN:VCALENDAR
VERSION:2.0
PRODID:-//YSC Senftenberger See//NONSGML v1.0//EN
BEGIN:VEVENT
UID:veranstaltungen/boote-einlagern@segelverein-ysc.de
DTSTART;TZID=Europe/Berlin:20261010T100000
DTEND;TZID=Europe/Berlin:20261010T120000
DTSTAMP:20260421T121331Z
SUMMARY:Boote einlagern
DESCRIPTION:
LOCATION:Vereinsgelände
URL;VALUE=URI:https://segelverein-ysc.de/veranstaltungen/boote-einlagern
END:VEVENT
END:VCALENDAR