BEGIN:VCALENDAR
VERSION:2.0
PRODID:-//YSC Senftenberger See//NONSGML v1.0//EN
BEGIN:VEVENT
UID:veranstaltungen/arbeitseinsatz@segelverein-ysc.de
DTSTART;TZID=Europe/Berlin:20261031T090000
DTEND;TZID=Europe/Berlin:20261031T110000
DTSTAMP:20260421T121331Z
SUMMARY:Arbeitseinsatz
DESCRIPTION:**Arbeit gibt es genug**
LOCATION:Vereinsgelände
URL;VALUE=URI:https://segelverein-ysc.de/veranstaltungen/arbeitseinsatz
END:VEVENT
END:VCALENDAR