BEGIN:VCALENDAR
VERSION:2.0
PRODID:-//YSC Senftenberger See//NONSGML v1.0//EN
BEGIN:VEVENT
UID:veranstaltungen/ansegeln-2026@segelverein-ysc.de
DTSTART;TZID=Europe/Berlin:20260425T110000
DTEND;TZID=Europe/Berlin:20260425T180000
DTSTAMP:20260419T162059Z
SUMMARY:Ansegeln 2026 & Mitgliederversammlung
DESCRIPTION:Saisonstart mit einem gemeinsamen Ansegeln über unseren schönen See.
LOCATION:Vereinsgelände
URL;VALUE=URI:https://segelverein-ysc.de/veranstaltungen/ansegeln-2026
END:VEVENT
END:VCALENDAR