BEGIN:VCALENDAR
VERSION:2.0
PRODID:-//YSC Senftenberger See//NONSGML v1.0//EN
BEGIN:VEVENT
UID:veranstaltungen/absegeln@segelverein-ysc.de
DTSTART;TZID=Europe/Berlin:20261003T110000
DTEND;TZID=Europe/Berlin:20261003T130000
DTSTAMP:20260419T162059Z
SUMMARY:Absegeln
DESCRIPTION:
LOCATION:Vereinsgelände
URL;VALUE=URI:https://segelverein-ysc.de/veranstaltungen/absegeln
END:VEVENT
END:VCALENDAR