BEGIN:VCALENDAR
VERSION:2.0
PRODID:-//YSC Senftenberger See//NONSGML v1.0//EN
BEGIN:VEVENT
UID:veranstaltungen/50-jahre@segelverein-ysc.de
DTSTART;TZID=Europe/Berlin:20260801T100000
DTEND;TZID=Europe/Berlin:20260801T120000
DTSTAMP:20260421T122514Z
SUMMARY:50 Jahre YSC mit Abendausfahrt
DESCRIPTION:Wir heißen Euch herzlich Willkommen zur 50 - Jahrfeier des Vereins
LOCATION:Vereinsgelände
URL;VALUE=URI:https://segelverein-ysc.de/veranstaltungen/50-jahre
END:VEVENT
END:VCALENDAR